Workbook

Sheet New WH Inv
A1: State Product Code | B1: State Product Name | C1: 3 Week New Whouse Inv Goal | D1: New Warehouse Inventory | E1: Difference | F1: Classification | G1: Vendor | H1: Broker
A2: F000146 | B2: TITO HANDMADE TEXAS VODKA - VODKA-CLASSIC-DOM - 1.75 LTR ( AL - F000146 ) | C2: 7046.7076 | D2: =IFERROR(VLOOKUP(A2,Lookup!$A$2:$B$1126,2,0),"") -> 6840 | E2: =IFERROR(C2-D2,"") -> 206.70758 | F2: A | G2: FIFTH GENERATION DISTILLED SPIRITS INC | H2: RNDC
A3: J007334 | B3: HIGH NOON SUN SIPS/12-VRT:GF/B/P/W 355ML - COCKTAILS - 375 ML ( AL - J007334 ) | C3: 5545.9012 | D3: =IFERROR(VLOOKUP(A3,Lookup!$A$2:$B$1126,2,0),"") -> 5512 | E3: =IFERROR(C3-D3,"") -> 33.90125 | F3: A | G3: E. & J. GALLO WINERY | H3: RNDC
A4: J070403 | B4: STATESIDE SURFSIDE VT 8P:LM/BC/S/R 355ML - COCKTAILS - 375 ML ( AL - J070403 ) | C4: 3800 | D4: =IFERROR(VLOOKUP(A4,Lookup!$A$2:$B$1126,2,0),"") -> 6240 | E4: =IFERROR(C4-D4,"") -> -2440 | F4: A | G4: Sweet Grace Distilling Co, LLC | H4: GULF DISTRIBUTING
A5: B000146 | B5: TITO HANDMADE TEXAS VODKA - VODKA-CLASSIC-DOM - 375 ML ( AL - B000146 ) | C5: 3094.1906 | D5: =IFERROR(VLOOKUP(A5,Lookup!$A$2:$B$1126,2,0),"") -> 3132 | E5: =IFERROR(C5-D5,"") -> -37.809375 | F5: A | G5: FIFTH GENERATION DISTILLED SPIRITS INC | H5: RNDC
A6: E000146 | B6: TITO HANDMADE TEXAS VODKA - VODKA-CLASSIC-DOM - 1.0 LTR ( AL - E000146 ) | C6: 2947.5984 | D6: =IFERROR(VLOOKUP(A6,Lookup!$A$2:$B$1126,2,0),"") -> 2915 | E6: =IFERROR(C6-D6,"") -> 32.5984 | F6: A | G6: FIFTH GENERATION DISTILLED SPIRITS INC | H6: RNDC
A7: J007255 | B7: HIGH NOON SUN SIPS PINEAPPLE 4P 355ML - COCKTAILS - 375 ML ( AL - J007255 ) | C7: 2779.1213 | D7: =IFERROR(VLOOKUP(A7,Lookup!$A$2:$B$1126,2,0),"") -> 2912 | E7: =IFERROR(C7-D7,"") -> -132.87875 | F7: A | G7: E. & J. GALLO WINERY | H7: RNDC
A8: A000146 | B8: TITO HANDMADE TEXAS VODKA - VODKA-CLASSIC-DOM - 750 ML ( AL - A000146 ) | C8: 2772.738 | D8: =IFERROR(VLOOKUP(A8,Lookup!$A$2:$B$1126,2,0),"") -> 5110 | E8: =IFERROR(C8-D8,"") -> -2337.262 | F8: A | G8: FIFTH GENERATION DISTILLED SPIRITS INC | H8: RNDC
A9: F000136 | B9: PINNACLE VODKA - VODKA-CLASSIC-DOM - 1.75 LTR ( AL - F000136 ) | C9: 2369.8238 | D9: =IFERROR(VLOOKUP(A9,Lookup!$A$2:$B$1126,2,0),"") -> 2025 | E9: =IFERROR(C9-D9,"") -> 344.82375 | F9: A | G9: JIM BEAM BRANDS CO. | H9: SGWS- CHAMPION DIVISION
A10: J007441 | B10: HIGH NOON SUN SIPS PEACH 4P 355ML - COCKTAILS - 375 ML ( AL - J007441 ) | C10: 2319.3827 | D10: =IFERROR(VLOOKUP(A10,Lookup!$A$2:$B$1126,2,0),"") -> 2392 | E10: =IFERROR(C10-D10,"") -> -72.617275 | F10: A | G10: E. & J. GALLO WINERY | H10: RNDC
A11: F001467 | B11: PLATINUM 7X VODKA (WAS TAAKA PLATINUM) - VODKA-CLASSIC-DOM - 1.75 LTR ( AL - F001467 ) | C11: 2172.9975 | D11: =IFERROR(VLOOKUP(A11,Lookup!$A$2:$B$1126,2,0),"") -> 2175 | E11: =IFERROR(C11-D11,"") -> -2.0025 | F11: A | G11: SAZERAC CO INC | H11: UNITED
A12: F001363 | B12: SMIRNOFF (PET) - VODKA-CLASSIC-DOM - 1.75 LTR ( AL - F001363 ) | C12: 2029.5927 | D12: =IFERROR(VLOOKUP(A12,Lookup!$A$2:$B$1126,2,0),"") -> 800 | E12: =IFERROR(C12-D12,"") -> 1229.5927 | F12: A | G12: DIAGEO NORTH AMERICA INC | H12: SGWS- COASTAL PACIFIC DIVISION
A13: A001988 | B13: DON JULIO REPOSADO TEQUILA GOLD - TEQUILA-REPOSADO - 750 ML ( AL - A001988 ) | C13: 2000 | D13: =IFERROR(VLOOKUP(A13,Lookup!$A$2:$B$1126,2,0),"") -> 1183 | E13: =IFERROR(C13-D13,"") -> 817 | F13: A | G13: DIAGEO NORTH AMERICA INC | H13: SGWS- COASTAL PACIFIC DIVISION
... A341: A000383 | B341: 1800 REPOSADO TEQUILA - TEQUILA-REPOSADO - 750 ML ( AL - A000383 ) | C341: 201.23212 | D341: =IFERROR(VLOOKUP(A341,Lookup!$A$2:$B$1126,2,0),"") -> 225 | E341: =IFERROR(C341-D341,"") -> -23.767875 | F341: B | G341: PROXIMO SPIRITS INC. | H341: JOHNSON BROTHERS
A342: J070667 | B342: SURFSIDE HALF & HALF VARIETY PACK 9PR 355ML | C342: 200 | D342: =IFERROR(VLOOKUP(A342,Lookup!$A$2:$B$1126,2,0),"") -> 520 | E342: =IFERROR(C342-D342,"") -> -320 | F342: B | G342: Sweet Grace Distilling Co, LLC
A343: J070668 | B343: SURFSIDE LEMONADE VARIETY 9PR 355ML | C343: 200 | D343: =IFERROR(VLOOKUP(A343,Lookup!$A$2:$B$1126,2,0),"") | E343: =IFERROR(C343-D343,"") | F343: B | G343: Sweet Grace Distilling Co, LLC | H343: GULF DISTRIBUTING
A344: J070717 | B344: Sinless Vodka Cocktail Variety Pack | C344: 200 | D344: =IFERROR(VLOOKUP(A344,Lookup!$A$2:$B$1126,2,0),"") | E344: =IFERROR(C344-D344,"") | F344: B | G344: Boston Beer Corporation | H344: GULF DISTRIBUTING
A345: E000598 | B345: KETEL ONE DUTCH VODKA - VODKA-CLASSIC-IMP - 1.0 LTR ( AL - E000598 ) | C345: 199.5759 | D345: =IFERROR(VLOOKUP(A345,Lookup!$A$2:$B$1126,2,0),"") -> 144 | E345: =IFERROR(C345-D345,"") -> 55.5759 | F345: B | G345: DIAGEO NORTH AMERICA INC | H345: SGWS- COASTAL PACIFIC DIVISION
A346: A000425 | B346: KAHLUA MEXICAN LIQUOR - CRDL-COFFEE LQR - 750 ML ( AL - A000425 ) | C346: 199.42275 | D346: =IFERROR(VLOOKUP(A346,Lookup!$A$2:$B$1126,2,0),"") -> 350 | E346: =IFERROR(C346-D346,"") -> -150.57725 | F346: B | G346: PERNOD RICARD USA | H346: SGWS- AMERICAN LIBERTY DIVISION
A347: A001237 | B347: ANGEL'S ENVY WHISKEY - DOM WHSKY-STRT-BRBN/TN - 750 ML ( AL - A001237 ) | C347: 198.4119 | D347: =IFERROR(VLOOKUP(A347,Lookup!$A$2:$B$1126,2,0),"") -> 208 | E347: =IFERROR(C347-D347,"") -> -9.5881 | F347: B | G347: BACARDI USA INC | H347: SGWS- CHAMPION DIVISION
A348: A001935 | B348: BUMBU THE ORIGINAL - RUM-FLVRD - 750 ML ( AL - A001935 ) | C348: 197.8188 | D348: =IFERROR(VLOOKUP(A348,Lookup!$A$2:$B$1126,2,0),"") | E348: =IFERROR(C348-D348,"") | F348: B | G348: SOVEREIGN BRANDS LLC | H348: SGWS- CHAMPION DIVISION
A349: J007620 | B349: HIGH NOON SUN SIPS MANGO 4P 355ML - COCKTAILS - 375 ML ( AL - J007620 ) | C349: 196.96875 | D349: =IFERROR(VLOOKUP(A349,Lookup!$A$2:$B$1126,2,0),"") -> 208 | E349: =IFERROR(C349-D349,"") -> -11.03125 | F349: B | G349: E. & J. GALLO WINERY | H349: RNDC
A350: A000136 | B350: PINNACLE VODKA - VODKA-CLASSIC-DOM - 750 ML ( AL - A000136 ) | C350: 196.9224 | D350: =IFERROR(VLOOKUP(A350,Lookup!$A$2:$B$1126,2,0),"") -> 224 | E350: =IFERROR(C350-D350,"") -> -27.0776 | F350: B | G350: JIM BEAM BRANDS CO. | H350: SGWS- CHAMPION DIVISION
A351: F000391 | B351: SMIRNOFF - VODKA-CLASSIC-DOM - 1.75 LTR ( AL - F000391 ) | C351: 196.58625 | D351: =IFERROR(VLOOKUP(A351,Lookup!$A$2:$B$1126,2,0),"") -> 160 | E351: =IFERROR(C351-D351,"") -> 36.58625 | F351: B | G351: DIAGEO NORTH AMERICA INC | H351: SGWS- COASTAL PACIFIC DIVISION
A352: B000495 | B352: CANADIAN MIST - CAN-US BLND-US BTLD - 375 ML ( AL - B000495 ) | C352: 195.21 | D352: =IFERROR(VLOOKUP(A352,Lookup!$A$2:$B$1126,2,0),"") -> 196 | E352: =IFERROR(C352-D352,"") -> -0.79 | F352: B | G352: SAZERAC CO INC | H352: UNITED
A353: J070262 | B353: HIGH NOON VD ICE TEA 8P:OG/PC/LM/RS355ML - COCKTAILS - 375 ML ( AL - J070262 ) | C353: 194.475 | D353: =IFERROR(VLOOKUP(A353,Lookup!$A$2:$B$1126,2,0),"") -> 208 | E353: =IFERROR(C353-D353,"") -> -13.525 | F353: B | G353: E. & J. GALLO WINERY | H353: RNDC
A354: A007944 | B354: DELEON REPOSADO TEQUILA - TEQUILA-REPOSADO - 750 ML ( AL - A007944 ) | C354: 193.28925 | D354: =IFERROR(VLOOKUP(A354,Lookup!$A$2:$B$1126,2,0),"") -> 144 | E354: =IFERROR(C354-D354,"") -> 49.28925 | F354: B | G354: DIAGEO NORTH AMERICA INC | H354: SGWS- COASTAL PACIFIC DIVISION
... A605: B001369 | B605: SMIRNOFF GREEN APPLE FLAVORED VODKA - VODKA-FLVRD-DOM - 375 ML ( AL - B001369 ) | C605: 100.0461 | D605: =IFERROR(VLOOKUP(A605,Lookup!$A$2:$B$1126,2,0),"") -> 36 | E605: =IFERROR(C605-D605,"") -> 64.0461 | F605: C | G605: DIAGEO NORTH AMERICA INC | H605: SGWS- COASTAL PACIFIC DIVISION
A606: B070688 | B606: ON THE ROCKS WHISKEY SOUR | C606: 100 | D606: =IFERROR(VLOOKUP(A606,Lookup!$A$2:$B$1126,2,0),"") -> 105 | E606: =IFERROR(C606-D606,"") -> -5 | F606: B | G606: JIM BEAM BRANDS CO.
A607: A010034 | B607: Barrell Seagrass Rye Whiskey | C607: 100 | D607: =IFERROR(VLOOKUP(A607,Lookup!$A$2:$B$1126,2,0),"") | E607: =IFERROR(C607-D607,"") | F607: B | G607: MHW LTD | H607: SGWS- CHAMPION DIVISION
A608: G070677 | B608: TWISTED SHOTZ PINEAPPLE UPSIDE DOWN CAKE 40PR 100ML | C608: 100 | D608: =IFERROR(VLOOKUP(A608,Lookup!$A$2:$B$1126,2,0),"") -> 96 | E608: =IFERROR(C608-D608,"") -> 4 | F608: B | G608: MHW LTD
A609: D070684 | B609: SHOTTYS GREEN TEA WHISKEY 30PR 50ML | C609: 100 | D609: =IFERROR(VLOOKUP(A609,Lookup!$A$2:$B$1126,2,0),"") | E609: =IFERROR(C609-D609,"") | F609: B | G609: PARK STREET IMPORTS / | H609: UNITED
A610: D070683 | B610: SHOTTYS VODKA LEMON DROP 30PR 50ML | C610: 100 | D610: =IFERROR(VLOOKUP(A610,Lookup!$A$2:$B$1126,2,0),"") | E610: =IFERROR(C610-D610,"") | F610: B | G610: PARK STREET IMPORTS / | H610: UNITED
A611: A070681 | B611: PAUL MASSON BLACKBERRY | C611: 100 | D611: =IFERROR(VLOOKUP(A611,Lookup!$A$2:$B$1126,2,0),"") -> 96 | E611: =IFERROR(C611-D611,"") -> 4 | F611: B | G611: SAZERAC CO INC | H611: UNITED
A612: A007954 | B612: Bradshaw Bourbon Signiture | C612: 100 | D612: =IFERROR(VLOOKUP(A612,Lookup!$A$2:$B$1126,2,0),"") | E612: =IFERROR(C612-D612,"") | F612: B | G612: TENNESSEE STILLHOUSE LLC DBA CHATTANOOGA WHISKEY | H612: RNDC
A613: A070743 | B613: BIATCH BLANCO ROSA TEQUILA 80PR 100ML | C613: 100 | D613: =IFERROR(VLOOKUP(A613,Lookup!$A$2:$B$1126,2,0),"") | E613: =IFERROR(C613-D613,"") | F613: B | G613: PARK STREET IMPORTS / | H613: UNITED
A614: G070743 | B614: BIATCH BLANCO ROSA TEQUILA 80PR 750ML | C614: 100 | D614: =IFERROR(VLOOKUP(A614,Lookup!$A$2:$B$1126,2,0),"") | E614: =IFERROR(C614-D614,"") | F614: B | G614: PARK STREET IMPORTS / | H614: UNITED
A615: A070744 | B615: BIATCH REPOSADO TEQUILA 80PR 100ML | C615: 100 | D615: =IFERROR(VLOOKUP(A615,Lookup!$A$2:$B$1126,2,0),"") | E615: =IFERROR(C615-D615,"") | F615: B | G615: PARK STREET IMPORTS / | H615: UNITED
A616: G070744 | B616: BIATCH REPOSADO TEQUILA 80PR 750ML | C616: 100 | D616: =IFERROR(VLOOKUP(A616,Lookup!$A$2:$B$1126,2,0),"") | E616: =IFERROR(C616-D616,"") | F616: B | G616: PARK STREET IMPORTS / | H616: UNITED
A617: A070729 | B617: El Mexicano Tequila Blanco | C617: 100 | D617: =IFERROR(VLOOKUP(A617,Lookup!$A$2:$B$1126,2,0),"") | E617: =IFERROR(C617-D617,"") | F617: B | G617: FOLEY | H617: SGWS- CHAMPION DIVISION
A618: A070728 | B618: Gray Whale Vodka | C618: 100 | D618: =IFERROR(VLOOKUP(A618,Lookup!$A$2:$B$1126,2,0),"") | E618: =IFERROR(C618-D618,"") | F618: B | G618: DEUTSCH | H618: SGWS- TRANSATLANTIC DIVISION
A619: A070737 | B619: Jameson Distillers Batch | C619: 100 | D619: =IFERROR(VLOOKUP(A619,Lookup!$A$2:$B$1126,2,0),"") | E619: =IFERROR(C619-D619,"") | F619: B | G619: PERNOD RICARD USA | H619: SGWS- AMERICAN LIBERTY DIVISION
A620: A070733 | B620: Mijenta Tequila Blanco | C620: 100 | D620: =IFERROR(VLOOKUP(A620,Lookup!$A$2:$B$1126,2,0),"") | E620: =IFERROR(C620-D620,"") | F620: B | G620: MIJENTA | H620: SGWS- CHAMPION DIVISION
... A783: E000641 | B783: BOMBAY SAPPHIRE - GIN-CLASSIC-IMP - 1.0 LTR ( AL - E000641 ) | C783: 75.15915 | D783: =IFERROR(VLOOKUP(A783,Lookup!$A$2:$B$1126,2,0),"") | E783: =IFERROR(C783-D783,"") | F783: C | G783: BACARDI USA INC | H783: SGWS- TRANSATLANTIC DIVISION
A784: D070672 | B784: EVAN WILLIAMS BLACKBERRY WHISKEY 50ML | C784: 75 | D784: =IFERROR(VLOOKUP(A784,Lookup!$A$2:$B$1126,2,0),"") -> 102 | E784: =IFERROR(C784-D784,"") -> -27 | F784: C | G784: HEAVEN HILL SALES CO DBA HEAVEN HILL BRANDS
A785: A070672 | B785: EVAN WILLIAMS BLACKBERRY WHISKEY 65PR 750ML | C785: 75 | D785: =IFERROR(VLOOKUP(A785,Lookup!$A$2:$B$1126,2,0),"") -> 70 | E785: =IFERROR(C785-D785,"") -> 5 | F785: C | G785: HEAVEN HILL SALES CO DBA HEAVEN HILL BRANDS
A786: J070686 | B786: 196 COMBO CRUSH VARIETY PACK 22PR 355ML | C786: 75 | D786: =IFERROR(VLOOKUP(A786,Lookup!$A$2:$B$1126,2,0),"") -> 100 | E786: =IFERROR(C786-D786,"") -> -25 | F786: C | G786: JIM BEAM BRANDS CO. | H786: SGWS- CHAMPION DIVISION
A787: A070687 | B787: OLD GRAND DAD BONDED | C787: 75 | D787: =IFERROR(VLOOKUP(A787,Lookup!$A$2:$B$1126,2,0),"") -> 60 | E787: =IFERROR(C787-D787,"") -> 15 | F787: C | G787: JIM BEAM BRANDS CO.
A788: A070675 | B788: PENELOPE APPLE CINNAMON OLD FASHION COCKTAIL 80PR 750ML | C788: 75 | D788: =IFERROR(VLOOKUP(A788,Lookup!$A$2:$B$1126,2,0),"") -> 84 | E788: =IFERROR(C788-D788,"") -> -9 | F788: C | G788: LUXCO INC
A789: A070740 | B789: Chinola Passion Fruit Liqueur | C789: 75 | D789: =IFERROR(VLOOKUP(A789,Lookup!$A$2:$B$1126,2,0),"") | E789: =IFERROR(C789-D789,"") | F789: C | G789: CHINOLA | H789: UNITED
A790: A070721 | B790: Rage Vodka | C790: 75 | D790: =IFERROR(VLOOKUP(A790,Lookup!$A$2:$B$1126,2,0),"") | E790: =IFERROR(C790-D790,"") | F790: C | G790: RAGE VODKA | H790: LUKE LEA BEVERAGES
A791: D070721 | B791: Rage Vodka | C791: 75 | D791: =IFERROR(VLOOKUP(A791,Lookup!$A$2:$B$1126,2,0),"") | E791: =IFERROR(C791-D791,"") | F791: C | G791: RAGE VODKA | H791: LUKE LEA BEVERAGES
A792: A070548 | B792: JACK DANIEL'S SNG BRL HERITAGE BRL TOAST - DOM WHSKY-STRT-BRBN/TN - 750 ML ( AL - A070548 ) | C792: 74.8725 | D792: =IFERROR(VLOOKUP(A792,Lookup!$A$2:$B$1126,2,0),"") -> 90 | E792: =IFERROR(C792-D792,"") -> -15.1275 | F792: B | G792: BROWN FOREMAN CORP | H792: UNITED
A793: A007446 | B793: OLE SMOKY TENNESSEE PEANUT BUTTER WHSKY - DOM WHSKY-BLND - 750 ML ( AL - A007446 ) | C793: 74.39445 | D793: =IFERROR(VLOOKUP(A793,Lookup!$A$2:$B$1126,2,0),"") -> 112 | E793: =IFERROR(C793-D793,"") -> -37.60555 | F793: C | G793: OLE SMOKEY DISTILLERY LLC | H793: SGWS- CHAMPION DIVISION
A794: A001602 | B794: OLE SMOKY TENNESSEE MOONSHINE BLACKBERRY - DOM WHSKY-BLND - 750 ML ( AL - A001602 ) | C794: 74.087025 | D794: =IFERROR(VLOOKUP(A794,Lookup!$A$2:$B$1126,2,0),"") -> 154 | E794: =IFERROR(C794-D794,"") -> -79.912975 | F794: C | G794: OLE SMOKEY DISTILLERY LLC | H794: SGWS- CHAMPION DIVISION
A795: D000659 | B795: MALIBU RUM NATURAL COCONUT - RUM-FLVRD - 50 ML ( AL - D000659 ) | C795: 74.0676 | D795: =IFERROR(VLOOKUP(A795,Lookup!$A$2:$B$1126,2,0),"") -> 56 | E795: =IFERROR(C795-D795,"") -> 18.0676 | F795: C | G795: PERNOD RICARD USA | H795: SGWS- AMERICAN LIBERTY DIVISION
A796: F000401 | B796: CAPTAIN MORGAN SPICED 100 PROOF RUM - RUM-FLVRD - 1.75 LTR ( AL - F000401 ) | C796: 74.035125 | D796: =IFERROR(VLOOKUP(A796,Lookup!$A$2:$B$1126,2,0),"") | E796: =IFERROR(C796-D796,"") | F796: C | G796: DIAGEO NORTH AMERICA INC | H796: SGWS- COASTAL PACIFIC DIVISION
A797: A000253 | B797: OLD FORESTER SIGNATURE - DOM WHSKY-STRT-BRBN/TN - 750 ML ( AL - A000253 ) | C797: 73.872225 | D797: =IFERROR(VLOOKUP(A797,Lookup!$A$2:$B$1126,2,0),"") -> 60 | E797: =IFERROR(C797-D797,"") -> 13.872225 | F797: C | G797: BROWN FOREMAN CORP | H797: UNITED
A798: D000443 | B798: EVAN WILLIAMS HONEY RESERVE - DOM WHSKY-BLND - 50 ML ( AL - D000443 ) | C798: 73.696875 | D798: =IFERROR(VLOOKUP(A798,Lookup!$A$2:$B$1126,2,0),"") -> 102 | E798: =IFERROR(C798-D798,"") -> -28.303125 | F798: C | G798: HEAVEN HILL SALES CO DBA HEAVEN HILL BRANDS | H798: SGWS- TRANSATLANTIC DIVISION
A799: A001248 | B799: DEEP EDDY RUBY RED GRAPEFRUIT FLVRD VOD - VODKA-FLVRD-DOM - 750 ML ( AL - A001248 ) | C799: 73.636725 | D799: =IFERROR(VLOOKUP(A799,Lookup!$A$2:$B$1126,2,0),"") -> 65 | E799: =IFERROR(C799-D799,"") -> 8.636725 | F799: C | G799: HEAVEN HILL SALES CO DBA HEAVEN HILL BRANDS | H799: SGWS- TRANSATLANTIC DIVISION
A800: J007665 | B800: MALIBU PINA COLADA RTD 4P 355ML - COCKTAILS - 375 ML ( AL - J007665 ) | C800: 73.635375 | D800: =IFERROR(VLOOKUP(A800,Lookup!$A$2:$B$1126,2,0),"") -> 312 | E800: =IFERROR(C800-D800,"") -> -238.36462 | F800: C | G800: PERNOD RICARD USA | H800: SGWS- AMERICAN LIBERTY DIVISION
... A1041: J070432 | B1041: NUTRL LIME VDK SELTZER 4P 355ML - COCKTAILS - 375 ML ( AL - J070432 ) | C1041: 43.125 | D1041: =IFERROR(VLOOKUP(A1041,Lookup!$A$2:$B$1126,2,0),"") | E1041: =IFERROR(C1041-D1041,"") | F1041: C | G1041: MHW LTD | H1041: SGWS- TRANSATLANTIC DIVISION
A1042: Totals | C1042: =SUM(C1043:C2083) -> 0 | D1042: =IFERROR(VLOOKUP(A1042,Lookup!$A$2:$B$1126,2,0),"")

Sheet Pivot
A3: Row Labels | B3: Sum of Physical inventory
A4: A000067 | B4: 100
A5: A000084 | B5: 210
A6: A000367 | B6: 210
A7: A000396 | B7: 240
A8: A000425 | B8: 350
A9: A000467 | B9: 600
A10: A000560 | B10: 270
A11: A000692 | B11: 196
A12: A000764 | B12: 450
A13: A001089 | B13: 264
A14: A001090 | B14: 176
A15: A001127 | B15: 400
... A1128: Grand Total | B1128: 293766

Sheet New Warehouse Inv
A1: Item number | B1: Product name | C1: Available physical | D1: Site | E1: Warehouse | F1: Location | G1: Inventory status | H1: Physical inventory | I1: Physical reserved | J1: Item classification | K1: Product status | L1: Vendor | M1: Broker number | N1: Pack size | O1: Calendar | P1: Coverage group | Q1: Ordered
A2: A000001 | B2: CARAVELLA LIMONCELLO LIQEUER- ITALY 56 PR. 750 ML | C2: 0 | D2: BDC | E2: Main Whse | F2: Main | G2: On Hold | H2: 120 | I2: 0 | J2: Retail | K2: Active | L2: 071 | M2: 909 | N2: 6 | O2: MainWhse | P2: Replenish | Q2: 0
A3: A000012 | B3: PINNACLE VODKA PET- FRANCE 80 PR. 750 ML | C3: 0 | D3: BDC | E3: Main Whse | F3: Main | G3: On Hold | H3: 324 | I3: 0 | J3: Retail | K3: Active | L3: 063 | M3: 904 | N3: 12 | O3: MainWhse | P3: Replenish | Q3: 0
A4: A000013 | B4: COINTREAU LIQUEUR- FRANCE 80 PR. 750 ML | C4: 0 | D4: BDC | E4: Main Whse | F4: Main | G4: On Hold | H4: 168 | I4: 0 | J4: Retail | K4: Active | L4: 032 | M4: 901 | N4: 12 | O4: MainWhse | P4: Replenish | Q4: 0
A5: A000017 | B5: OLD FORESTER BOURBON 86 PR. 750 ML | C5: 0 | D5: BDC | E5: Main Whse | F5: Main | G5: On Hold | H5: 300 | I5: 0 | J5: Retail | K5: Active | L5: 109 | M5: 909 | N5: 12 | O5: MainWhse | P5: Replenish | Q5: 0
A6: A000027 | B6: MIDORI MELON LIQUEUR- JAPAN 42 PR. 750 ML | C6: 0 | D6: BDC | E6: Main Whse | F6: Main | G6: On Hold | H6: 55 | I6: 0 | J6: Retail | K6: Active | L6: 063 | M6: 904 | N6: 12 | O6: MainWhse | P6: Replenish | Q6: 0
A7: A000052 | B7: JEFFERSON'S BOURBON 80 PR. 750 ML | C7: 38 | D7: BDC | E7: Main Whse | F7: Main | G7: On Hold | H7: 38 | I7: 0 | J7: Retail | K7: Active | L7: 005 | M7: 905 | N7: 6 | O7: MainWhse | P7: Replenish | Q7: 0
A8: A000055 | B8: WILD TURKEY 81 BOURBON 81 PR. 750 ML | C8: 0 | D8: BDC | E8: Main Whse | F8: Main | G8: On Hold | H8: 55 | I8: 0 | J8: Retail | K8: Active | L8: 143 | M8: 905 | N8: 12 | O8: MainWhse | P8: Replenish | Q8: 0
A9: A000067 | B9: DEKUYPER PEACHTREE SCHNAPPS 30 PR. 750 ML | C9: 0 | D9: BDC | E9: Main Whse | F9: Main | G9: On Hold | H9: 100 | I9: 0 | J9: Retail | K9: Active | L9: 063 | M9: 904 | N9: 12 | O9: MainWhse | P9: Replenish | Q9: 0
A10: A000081 | B10: NEW AMSTERDAM GIN 80 PR. 750 ML | C10: 0 | D10: BDC | E10: Main Whse | F10: Main | G10: On Hold | H10: 136 | I10: 0 | J10: Retail | K10: Active | L10: 124 | M10: 901 | N10: 12 | O10: MainWhse | P10: Replenish | Q10: 0
A11: A000084 | B11: SKOL VODKA 80 PR. 750 ML | C11: 0 | D11: BDC | E11: Main Whse | F11: Main | G11: On Hold | H11: 210 | I11: 0 | J11: Retail | K11: Active | L11: 071 | M11: 909 | N11: 12 | O11: MainWhse | P11: Replenish | Q11: 0
A12: A000086 | B12: DEKUYPER PEPPERMINT SCHNAPPS 60 PR. 750 ML | C12: 4.833333 | D12: BDC | E12: Main Whse | F12: Main | G12: On Hold | H12: 50 | I12: 0 | J12: Retail | K12: Active | L12: 063 | M12: 904 | N12: 12 | O12: MainWhse | P12: Replenish | Q12: 0
A13: A000096 | B13: BUCHANAN'S DELUXE SCOTCH 80 PR. 12 YR. 750 ML | C13: 0 | D13: BDC | E13: Main Whse | F13: Main | G13: On Hold | H13: 45 | I13: 0 | J13: Retail | K13: Active | L13: 049 | M13: 902 | N13: 12 | O13: MainWhse | P13: Replenish | Q13: 0
... A1085: F008926 | B1085: KIRKLAND SIGNATURE CANADIAN WHISKY 80 PR. 1.75 L | C1085: 0 | D1085: BDC | E1085: Main Whse | F1085: Main | G1085: On Hold | H1085: 240 | I1085: 0 | J1085: Wholesale bottle | K1085: Active | L1085: 071 | M1085: 909 | N1085: 6 | O1085: MainWhse | P1085: PrivLabel | Q1085: 0
A1086: F008951 | B1086: KIRKLAND SIGNATURE BLANCO TEQUILA 80PR 1.75ML | C1086: 0 | D1086: BDC | E1086: Main Whse | F1086: Main | G1086: On Hold | H1086: 78 | I1086: 0 | J1086: Wholesale bottle | K1086: Active | L1086: 286 | N1086: 6 | O1086: MainWhse | P1086: PrivLabel | Q1086: 0
A1087: F008956 | B1087: WELLSLEY FARMS IRISH WHISKEY 80PR 1.75ML | C1087: 80 | D1087: BDC | E1087: Main Whse | F1087: Main | G1087: Available | H1087: 80 | I1087: 0 | J1087: Wholesale | K1087: Active | L1087: 082 | M1087: 905 | N1087: 6 | O1087: MainWhse | P1087: PrivLabel | Q1087: 0
A1088: F008957 | B1088: WELLSLEY FARMS CANADIAN WHISKEY 80PR 1.75ML | C1088: 80 | D1088: BDC | E1088: Main Whse | F1088: Main | G1088: Available | H1088: 80 | I1088: 0 | J1088: Wholesale | K1088: Active | L1088: 082 | M1088: 905 | N1088: 6 | O1088: MainWhse | P1088: PrivLabel | Q1088: 0
A1089: F008958 | B1089: WELLSLEY FARMS VODKA 80PR 1.75ML | C1089: 160 | D1089: BDC | E1089: Main Whse | F1089: Main | G1089: Available | H1089: 160 | I1089: 0 | J1089: Wholesale | K1089: Active | L1089: 082 | M1089: 905 | N1089: 6 | O1089: MainWhse | P1089: PrivLabel | Q1089: 0
A1090: F008958 | B1090: WELLSLEY FARMS VODKA 80PR 1.75ML | C1090: 0 | D1090: BDC | E1090: Main Whse | F1090: Main | G1090: On Hold | H1090: 40 | I1090: 0 | J1090: Wholesale | K1090: Active | L1090: 082 | M1090: 905 | N1090: 6 | O1090: MainWhse | P1090: PrivLabel | Q1090: 0
A1091: F070228 | B1091: TRAVELLER WHISKEY BLEND NO 40 90PR 1.75ML | C1091: 0 | D1091: BDC | E1091: Main Whse | F1091: Main | G1091: On Hold | H1091: 20 | I1091: 0 | J1091: Retail | K1091: Active | L1091: 071 | M1091: 909 | N1091: 6 | O1091: MainWhse | P1091: Replenish | Q1091: 0
A1092: F070396 | B1092: JOSE CUERVO AUTHENTIC DOUBLE STRENGTH MARGARITA 80PR 1.75ML | C1092: 0 | D1092: BDC | E1092: Main Whse | F1092: Main | G1092: On Hold | H1092: 150 | I1092: 0 | J1092: Retail | K1092: Active | L1092: 170 | M1092: 916 | N1092: 6 | O1092: MainWhse | P1092: Replenish | Q1092: 0
A1093: F070566 | B1093: BUZZBALLZ BIGGIES PEPPERMINT BARK COCKTAIL 30PR 1.75ML | C1093: 84 | D1093: BDC | E1093: Main Whse | F1093: Main | G1093: Available | H1093: 84 | I1093: 0 | J1093: VAP/Gift set | K1093: Active | L1093: 071 | M1093: 909 | N1093: 3 | O1093: MainWhse | P1093: NoReplen | Q1093: 0
A1094: F070623 | B1094: JOSE CUERVO MARGARITA DOUBLE STRENGTH STRAWBERRY LIME 1.75ML | C1094: 0 | D1094: BDC | E1094: Main Whse | F1094: Main | G1094: On Hold | H1094: 150 | I1094: 0 | J1094: Retail | K1094: Active | L1094: 170 | M1094: 916 | N1094: 6 | O1094: MainWhse | P1094: Replenish | Q1094: 0
A1095: F070662 | B1095: JIM BEAM BLACK BOURBON 7YR 90PR 1.75ML | C1095: 0 | D1095: BDC | E1095: Main Whse | F1095: Main | G1095: On Hold | H1095: 100 | I1095: 0 | J1095: Retail | K1095: Active | L1095: 063 | M1095: 904 | N1095: 6 | O1095: MainWhse | P1095: Replenish | Q1095: 0
A1096: G000112 | B1096: SEAGRAM'S EXTRA DRY GIN 80 PR. 100 ML | C1096: 0 | D1096: BDC | E1096: Main Whse | F1096: Main | G1096: On Hold | H1096: 162 | I1096: 0 | J1096: Retail | K1096: Active | L1096: 005 | M1096: 905 | N1096: 48 | O1096: MainWhse | P1096: Replenish | Q1096: 0
A1097: G000305 | B1097: JACK DANIEL'S OLD NO. 7 BLACK LABEL 80 PR. 4 YR. 100 ML | C1097: 0 | D1097: BDC | E1097: Main Whse | F1097: Main | G1097: On Hold | H1097: 110 | I1097: 0 | J1097: Retail | K1097: Active | L1097: 109 | M1097: 909 | N1097: 48 | O1097: MainWhse | P1097: Replenish | Q1097: 0
A1098: G000327 | B1098: FIREBALL CINNAMON WHISKY 66 PR. 100 ML | C1098: 0 | D1098: BDC | E1098: Main Whse | F1098: Main | G1098: On Hold | H1098: 442 | I1098: 0 | J1098: Retail | K1098: Active | L1098: 071 | M1098: 909 | N1098: 48 | O1098: MainWhse | P1098: Replenish | Q1098: 0
... A1188: L007441 | B1188: HIGH NOON BEVERAGE PEACH COCKTAIL 9 PR 700ML | C1188: 0 | D1188: BDC | E1188: Main Whse | F1188: Main | G1188: On Hold | H1188: 306 | I1188: 0 | J1188: Retail | K1188: Active | L1188: 124 | M1188: 901 | N1188: 12 | O1188: MainWhse | P1188: Replenish | Q1188: 0
A1189: L070600 | B1189: DOC HOLIDAY BOURBON BOTTLED IN BOND 100PR 700ML | C1189: 0 | D1189: BDC | E1189: Main Whse | F1189: Main | G1189: On Hold | H1189: 60 | I1189: 0 | J1189: Retail | K1189: Active | L1189: 320 | N1189: 6 | O1189: MainWhse | P1189: Replenish | Q1189: 0
A1190: Y002007 | B1190: REGANS BITTERS 90 PR. 155 ML | C1190: 0 | D1190: BDC | E1190: Main Whse | F1190: Main | G1190: On Hold | H1190: 33 | I1190: 0 | J1190: Retail | K1190: Active | L1190: 071 | M1190: 909 | N1190: 12 | O1190: MainWhse | P1190: Replenish | Q1190: 0

Sheet Lookup
A1: Row Labels | B1: Sum of Physical inventory
A2: A000067 | B2: 100
A3: A000084 | B3: 210
A4: A000367 | B4: 210
A5: A000396 | B5: 240
A6: A000425 | B6: 350
A7: A000467 | B7: 600
A8: A000560 | B8: 270
A9: A000692 | B9: 196
A10: A000764 | B10: 450
A11: A001089 | B11: 264
A12: A001090 | B12: 176
A13: A001127 | B13: 400
... A1126: Grand Total | B1126: 293766
